BEGIN:VCALENDAR
VERSION:2.0
PRODID:-//Comentario Bíblico Contemporáneo - ECPv5.1.1//NONSGML v1.0//EN
CALSCALE:GREGORIAN
METHOD:PUBLISH
X-WR-CALNAME:Comentario Bíblico Contemporáneo
X-ORIGINAL-URL:https://comentariobiblico.info
X-WR-CALDESC:Eventos para Comentario Bíblico Contemporáneo
BEGIN:VTIMEZONE
TZID:UTC
BEGIN:STANDARD
TZOFFSETFROM:+0000
TZOFFSETTO:+0000
TZNAME:UTC
DTSTART:20200101T000000
END:STANDARD
END:VTIMEZONE
BEGIN:VEVENT
DTSTART;TZID=UTC:20200515T200000
DTEND;TZID=UTC:20200515T220000
DTSTAMP:20260422T142834
CREATED:20200509T030905Z
LAST-MODIFIED:20200509T030905Z
UID:2879-1589572800-1589580000@comentariobiblico.info
SUMMARY:Canciones a la Carta II
DESCRIPTION:Sé parte del concierto del cantautor Santiago Benavides. \nSantiago Benavides es autor del artículo Arte y Adoración que aparece en nuestro #CBC \n¡¡Lo prometido es deuda!!! Vamos a hacerlo por face esta vez\, para que más gente pueda estar! (Si el internet nos da\, pos también por Instagram.. Pero inicialmente vamos a darle la palabra al face\, que hace rato que no le hago un cariñito!) El otro jueves! \nPor facebook live  \nJueves 15 de mayo\, 20 horas Colombia \n#cancionesalacarta #sevalasegunda#aycuarentenalindacuándoteacabarás \n
URL:https://comentariobiblico.info/event/canciones-a-la-carta-ii/
CATEGORIES:Prensa
ATTACH;FMTTYPE=image/jpeg:https://comentariobiblico.info/wp-content/uploads/2020/05/96736413_2980241308685766_1690520168750383104_o.jpg
END:VEVENT
END:VCALENDAR