BEGIN:VCALENDAR
VERSION:2.0
PRODID:-//Comentario Bíblico Contemporáneo - ECPv5.1.1//NONSGML v1.0//EN
CALSCALE:GREGORIAN
METHOD:PUBLISH
X-WR-CALNAME:Comentario Bíblico Contemporáneo
X-ORIGINAL-URL:https://comentariobiblico.info
X-WR-CALDESC:Eventos para Comentario Bíblico Contemporáneo
BEGIN:VTIMEZONE
TZID:UTC
BEGIN:STANDARD
TZOFFSETFROM:+0000
TZOFFSETTO:+0000
TZNAME:UTC
DTSTART:20200101T000000
END:STANDARD
END:VTIMEZONE
BEGIN:VEVENT
DTSTART;TZID=UTC:20200922T080000
DTEND;TZID=UTC:20200925T170000
DTSTAMP:20260422T093420
CREATED:20200909T235138Z
LAST-MODIFIED:20200909T235138Z
UID:3059-1600761600-1601053200@comentariobiblico.info
SUMMARY:El profetismo bíblico y las predicciones de hoy - Curso de 3 días
DESCRIPTION:\nCurso online\n\n\nEl profetismo Bíblico y las predicciones de hoy a cargo de Darío López Rodríguez.\n\n\nPuedes inscribirte ingresando a https://entrenamiento.iddla.org/profetismo\n.\n.\n#SEBIPCA #EMG #IDDLA #EducaciónSuperior #IglesiaDeDios\n\n\nEl hermano Darío es el escritor de los comentarios de Lucas y Hechos.\n\n
URL:https://comentariobiblico.info/event/el-profetismo-biblico-y-las-predicciones-de-hoy-curso-de-3-dias/
END:VEVENT
END:VCALENDAR