BEGIN:VCALENDAR
VERSION:2.0
PRODID:-//Comentario Bíblico Contemporáneo - ECPv5.1.1//NONSGML v1.0//EN
CALSCALE:GREGORIAN
METHOD:PUBLISH
X-WR-CALNAME:Comentario Bíblico Contemporáneo
X-ORIGINAL-URL:https://comentariobiblico.info
X-WR-CALDESC:Eventos para Comentario Bíblico Contemporáneo
BEGIN:VTIMEZONE
TZID:UTC
BEGIN:STANDARD
TZOFFSETFROM:+0000
TZOFFSETTO:+0000
TZNAME:UTC
DTSTART:20200101T000000
END:STANDARD
END:VTIMEZONE
BEGIN:VEVENT
DTSTART;TZID=UTC:20200917T140000
DTEND;TZID=UTC:20200917T170000
DTSTAMP:20260422T123206
CREATED:20200821T210036Z
LAST-MODIFIED:20200821T210510Z
UID:3038-1600351200-1600362000@comentariobiblico.info
SUMMARY:El viaje espiritual e intelectual de un erudito cristiano palestino
DESCRIPTION:Les invitamos a ser parte de esta conferencia\, impartida por el Dr. Yohanna Katanacho. \, escritor del artículo de nuestro Comentario Bíblico Contemporáneo\, llamado Palestina: Israel\, los hebreos y los judíos. \nLa conferencia será impartida en idioma inglés. \n\n\n\n\n\n\n\n\n\nOn Thursday\, 17 September 2020 at 1400 GMT\, Dr. Yohanna Katanacho\, Academic Dean at Nazareth Evangelical College\, will discuss his faith journey as a Palestinian Christian scholar. He began as an atheist who despised the idea of God and hated his Jewish neighbors. Then\, he met Christ and was transformed into a messenger of faith\, hope and love. Dr. Katanacho has addressed complex faith questions in the Palestinian context\, such as the land of Israel\, justice and peace (in his 2013 book The Land of Christ: A Palestinian Cry); the relationship between Israel and the church; Romans 9-11; and reading the Old Testament as a Palestinian Christian. He has written or contributed to dozens of books in English and Arabic; his most recent book is Reading the Gospel of John Through Palestinian Eyes (2020). He is also actively involved in peacemaking in the region.Register TODAY and share the below URL with your colleagues. Don’t miss this opportunity to hear about Dr. Katanacho’s exciting story as a Palestinian Christian scholar and peacemaker. Register here: https://scshub.net/webinars/the-spiritual-and-intellectual-journey-of-a-palestinian-christian-scholar-thursday-17-september-2020-at-1400-gmt/\n\n\n\n\n\n\n\n\n\n  \n  \n
URL:https://comentariobiblico.info/event/el-viaje-espiritual-e-intelectual-de-un-erudito-cristiano-palestino/
CATEGORIES:Prensa
ATTACH;FMTTYPE=image/jpeg:https://comentariobiblico.info/wp-content/uploads/2020/08/YKatanacho.jpg
END:VEVENT
END:VCALENDAR