BEGIN:VCALENDAR
VERSION:2.0
PRODID:-//Comentario Bíblico Contemporáneo - ECPv5.1.1//NONSGML v1.0//EN
CALSCALE:GREGORIAN
METHOD:PUBLISH
X-WR-CALNAME:Comentario Bíblico Contemporáneo
X-ORIGINAL-URL:https://comentariobiblico.info
X-WR-CALDESC:Eventos para Comentario Bíblico Contemporáneo
BEGIN:VTIMEZONE
TZID:UTC
BEGIN:STANDARD
TZOFFSETFROM:+0000
TZOFFSETTO:+0000
TZNAME:UTC
DTSTART:20200101T000000
END:STANDARD
END:VTIMEZONE
BEGIN:VEVENT
DTSTART;TZID=UTC:20200807T160000
DTEND;TZID=UTC:20200807T170000
DTSTAMP:20260422T123500
CREATED:20200802T051501Z
LAST-MODIFIED:20200802T051501Z
UID:3012-1596816000-1596819600@comentariobiblico.info
SUMMARY:La violencia en el libro de Jueces
DESCRIPTION:Te invitamos a nuestro próximo evento\, donde tendremos la exposición del Dr. Milton Acosta\, especialista en Antiguo Testamento. \n📆 ¿Cuándo? Viernes 7 de agosto\n🧐 Revisa el horario de tu pais en el afiche. \n\nPara participar sólo debes seguir el enlace y obtendrás el link e ID de la reunión 👇 \nhttps://bit.ly/39EE9HZ \nCUPOS LIMITADOS. \n\n \n
URL:https://comentariobiblico.info/event/la-violencia-en-el-libro-de-jueces/
CATEGORIES:Prensa
ATTACH;FMTTYPE=image/jpeg:https://comentariobiblico.info/wp-content/uploads/2020/08/116167550_3601432976551318_2619198140826220181_o.jpg
END:VEVENT
END:VCALENDAR