BEGIN:VCALENDAR
VERSION:2.0
PRODID:-//Comentario Bíblico Contemporáneo - ECPv5.1.1//NONSGML v1.0//EN
CALSCALE:GREGORIAN
METHOD:PUBLISH
X-WR-CALNAME:Comentario Bíblico Contemporáneo
X-ORIGINAL-URL:https://comentariobiblico.info
X-WR-CALDESC:Eventos para Comentario Bíblico Contemporáneo
BEGIN:VTIMEZONE
TZID:UTC
BEGIN:STANDARD
TZOFFSETFROM:+0000
TZOFFSETTO:+0000
TZNAME:UTC
DTSTART:20200101T000000
END:STANDARD
END:VTIMEZONE
BEGIN:VEVENT
DTSTART;TZID=UTC:20200515T110000
DTEND;TZID=UTC:20200515T170000
DTSTAMP:20260422T123029
CREATED:20200513T205403Z
LAST-MODIFIED:20200513T205403Z
UID:2894-1589540400-1589562000@comentariobiblico.info
SUMMARY:Ser iglesia en tiempos de pandemia
DESCRIPTION:No te pierdas esta conferencia organizada por Ediciones Puma\, con el Hno. Samuel Escobar \nEl Hno. Escobar es el escritor de los comentarios de 1 y 2 de Pedro\, así como artículos: Migración\, Hospitalidad\, Espiritualidad\, Patriotismo y nacionalismo.  \n🎤 ¡Conferencia online!\n📢 Te invitamos a ser parte de la conferencia online con Samuel Escobar\, quien expondrá el tema: Ser iglesia en tiempos de pandemia.\n¿Cuándo? Este viernes 15 de mayo.\nRevisa los horarios de tu país en el afiche.\n📍 ¿Dónde? La conferencia es libre y gratuita a través de ZOOM:\nEl ID es 885 6247 5481\nEl link es https://us02web.zoom.us/j/88562475481\nLa capacidad es limitada\, sólo 100 personas. \n*Ver horario en afiche* \n
URL:https://comentariobiblico.info/event/ser-iglesia-en-tiempos-de-pandemia/
CATEGORIES:Prensa
ATTACH;FMTTYPE=image/png:https://comentariobiblico.info/wp-content/uploads/2020/05/Samuel-Escobar-conferencia-online.png
END:VEVENT
END:VCALENDAR